BEGIN:VCALENDAR
VERSION:2.0
PRODID:-//Engadine Bowling Club - ECPv6.15.16.1//NONSGML v1.0//EN
CALSCALE:GREGORIAN
METHOD:PUBLISH
X-WR-CALNAME:Engadine Bowling Club
X-ORIGINAL-URL:https://engadinebowling.com.au
X-WR-CALDESC:Events for Engadine Bowling Club
REFRESH-INTERVAL;VALUE=DURATION:PT1H
X-Robots-Tag:noindex
X-PUBLISHED-TTL:PT1H
BEGIN:VTIMEZONE
TZID:UTC
BEGIN:STANDARD
TZOFFSETFROM:+0000
TZOFFSETTO:+0000
TZNAME:UTC
DTSTART:20250101T000000
END:STANDARD
END:VTIMEZONE
BEGIN:VTIMEZONE
TZID:Australia/Sydney
BEGIN:STANDARD
TZOFFSETFROM:+1100
TZOFFSETTO:+1000
TZNAME:AEST
DTSTART:20250405T160000
END:STANDARD
BEGIN:DAYLIGHT
TZOFFSETFROM:+1000
TZOFFSETTO:+1100
TZNAME:AEDT
DTSTART:20251004T160000
END:DAYLIGHT
BEGIN:STANDARD
TZOFFSETFROM:+1100
TZOFFSETTO:+1000
TZNAME:AEST
DTSTART:20260404T160000
END:STANDARD
BEGIN:DAYLIGHT
TZOFFSETFROM:+1000
TZOFFSETTO:+1100
TZNAME:AEDT
DTSTART:20261003T160000
END:DAYLIGHT
BEGIN:STANDARD
TZOFFSETFROM:+1100
TZOFFSETTO:+1000
TZNAME:AEST
DTSTART:20270403T160000
END:STANDARD
BEGIN:DAYLIGHT
TZOFFSETFROM:+1000
TZOFFSETTO:+1100
TZNAME:AEDT
DTSTART:20271002T160000
END:DAYLIGHT
END:VTIMEZONE
BEGIN:VEVENT
DTSTART;TZID=UTC:20260614T170000
DTEND;TZID=UTC:20260614T190000
DTSTAMP:20260421T014657
CREATED:20221207T035820Z
LAST-MODIFIED:20260408T075134Z
UID:10379-1781456400-1781463600@engadinebowling.com.au
SUMMARY:Cocktail Happy Hour
DESCRIPTION:Join us for cocktail happy hour every Friday\, Saturday\, and Sunday from 5pm to 7pm! And here’s the best part: all cocktails are only $14 for our valued members! \nHaven’t joined us as a member yet? No problem! Our friendly reception team is ready to assist you with joining. Membership starts from just $5 for a year\, unlocking access to member discounts. \nDon’t miss out! Swing by and enjoy your favourite cocktails during our happy hour. We look forward to welcoming you! \nTerms and Conditions apply. Not available on public holidays or special event days at Management’s discretion.
URL:https://engadinebowling.com.au/event/cocktail-happy-hour/2026-06-14/
CATEGORIES:Promotions and Raffles
ATTACH;FMTTYPE=image/jpeg:https://engadinebowling.com.au/wp-content/uploads/2025/12/EBC_Cocktail-Happy-Hour_WEB.jpg
END:VEVENT
BEGIN:VEVENT
DTSTART;TZID=UTC:20260614T173000
DTEND;TZID=UTC:20260614T180000
DTSTAMP:20260421T014657
CREATED:20220831T142453Z
LAST-MODIFIED:20220831T142453Z
UID:9799-1781458200-1781460000@engadinebowling.com.au
SUMMARY:Sunday Meat Raffle
DESCRIPTION:Join us every Sunday for our weekly meat raffle. There are 25 prizes to be won\, including quality meat trays\, Coota Valley Meats vouchers and Wish Gift Cards\, plus two additional $50 meat trays. \nTickets go on sale from 5.30pm\, with the draw from 6pm.
URL:https://engadinebowling.com.au/event/sunday-meat-raffle/2026-06-14/
CATEGORIES:Promotions and Raffles
ATTACH;FMTTYPE=image/jpeg:https://engadinebowling.com.au/wp-content/uploads/2022/12/EBC_Meat-Raffle-WEB-002.jpg
END:VEVENT
BEGIN:VEVENT
DTSTART;TZID=Australia/Sydney:20260615T150000
DTEND;TZID=Australia/Sydney:20260615T170000
DTSTAMP:20260421T014657
CREATED:20250106T025147Z
LAST-MODIFIED:20260331T045138Z
UID:10119-1781535600-1781542800@engadinebowling.com.au
SUMMARY:Happy Hour
DESCRIPTION:Join us for Happy Hour! Available exclusively to members\, you can enjoy $6.50 house beer\, wine\, and spirits every Monday to Friday from 3pm to 5pm. It’s the perfect way to relax and make the most of your afternoons. Not a member yet? Simply see our friendly reception team to join today! \nTerms and Conditions apply. Not available on public holidays or special event days at Management’s discretion.
URL:https://engadinebowling.com.au/event/happy-hour/2026-06-15/
CATEGORIES:Promotions and Raffles
ATTACH;FMTTYPE=image/jpeg:https://engadinebowling.com.au/wp-content/uploads/2025/01/EBC_Happy-Hour-WEB.jpg
END:VEVENT
BEGIN:VEVENT
DTSTART;TZID=Australia/Sydney:20260615T173000
DTEND;TZID=Australia/Sydney:20260615T203000
DTSTAMP:20260421T014657
CREATED:20240823T012809Z
LAST-MODIFIED:20260115T033822Z
UID:10442-1781544600-1781555400@engadinebowling.com.au
SUMMARY:Schnitzel Night
DESCRIPTION:Don’t feel like cooking? Enjoy our mouth watering Chicken Schnitzel served with chips\, salad and gravy for only $20. Available every Monday from 5.30pm. \n*Terms and conditions apply. Not available on public holidays or special event days at Management’s discretion.
URL:https://engadinebowling.com.au/event/schnitzel-night/2026-06-15/
CATEGORIES:Promotions and Raffles
ATTACH;FMTTYPE=image/jpeg:https://engadinebowling.com.au/wp-content/uploads/2024/11/EBC_Schnitzel-Night-Specials-Web.jpg
END:VEVENT
BEGIN:VEVENT
DTSTART;TZID=Australia/Sydney:20260615T173000
DTEND;TZID=Australia/Sydney:20260615T203000
DTSTAMP:20260421T014657
CREATED:20240823T015802Z
LAST-MODIFIED:20260408T074803Z
UID:10369-1781544600-1781555400@engadinebowling.com.au
SUMMARY:Kids Eat Free Every Monday and Tuesday Night
DESCRIPTION:Join us every Monday and Tuesday night for a family-friendly dining experience. Enjoy a free kids’ meal for children 12 years and under with every adult meal purchased over $22. Gather the family and let us take care of dinner — we look forward to welcoming you. \nTerms and conditions apply. Not available on public holidays or special event days at management’s discretion.
URL:https://engadinebowling.com.au/event/kids-eat-free-every-monday-and-tuesday-night/2026-06-15/
CATEGORIES:Promotions and Raffles
ATTACH;FMTTYPE=image/jpeg:https://engadinebowling.com.au/wp-content/uploads/2026/01/Kids-Eat-Free_Website-1-scaled.jpg
END:VEVENT
BEGIN:VEVENT
DTSTART;TZID=Australia/Sydney:20260616T150000
DTEND;TZID=Australia/Sydney:20260616T170000
DTSTAMP:20260421T014657
CREATED:20250106T025147Z
LAST-MODIFIED:20260331T045140Z
UID:10120-1781622000-1781629200@engadinebowling.com.au
SUMMARY:Happy Hour
DESCRIPTION:Join us for Happy Hour! Available exclusively to members\, you can enjoy $6.50 house beer\, wine\, and spirits every Monday to Friday from 3pm to 5pm. It’s the perfect way to relax and make the most of your afternoons. Not a member yet? Simply see our friendly reception team to join today! \nTerms and Conditions apply. Not available on public holidays or special event days at Management’s discretion.
URL:https://engadinebowling.com.au/event/happy-hour/2026-06-16/
CATEGORIES:Promotions and Raffles
ATTACH;FMTTYPE=image/jpeg:https://engadinebowling.com.au/wp-content/uploads/2025/01/EBC_Happy-Hour-WEB.jpg
END:VEVENT
BEGIN:VEVENT
DTSTART;TZID=Australia/Sydney:20260616T173000
DTEND;TZID=Australia/Sydney:20260616T203000
DTSTAMP:20260421T014657
CREATED:20240823T015802Z
LAST-MODIFIED:20260408T074804Z
UID:10370-1781631000-1781641800@engadinebowling.com.au
SUMMARY:Kids Eat Free Every Monday and Tuesday Night
DESCRIPTION:Join us every Monday and Tuesday night for a family-friendly dining experience. Enjoy a free kids’ meal for children 12 years and under with every adult meal purchased over $22. Gather the family and let us take care of dinner — we look forward to welcoming you. \nTerms and conditions apply. Not available on public holidays or special event days at management’s discretion.
URL:https://engadinebowling.com.au/event/kids-eat-free-every-monday-and-tuesday-night/2026-06-16/
CATEGORIES:Promotions and Raffles
ATTACH;FMTTYPE=image/jpeg:https://engadinebowling.com.au/wp-content/uploads/2026/01/Kids-Eat-Free_Website-1-scaled.jpg
END:VEVENT
BEGIN:VEVENT
DTSTART;TZID=Australia/Sydney:20260616T173000
DTEND;TZID=Australia/Sydney:20260616T203000
DTSTAMP:20260421T014657
CREATED:20240823T020253Z
LAST-MODIFIED:20260115T030634Z
UID:9852-1781631000-1781641800@engadinebowling.com.au
SUMMARY:Tuesday Steak Night
DESCRIPTION:It’s Tuesday steak night at Engadine Grill. Enjoy a succulent 250g Rump steak with crispy chips\, salad and gravy for only $24. Available every Tuesday night from 5.30pm. \n*Not available on public holidays or special event days at Management’s discretion.
URL:https://engadinebowling.com.au/event/tuesday-steak-night/2026-06-16/
CATEGORIES:Promotions and Raffles
ATTACH;FMTTYPE=image/jpeg:https://engadinebowling.com.au/wp-content/uploads/2023/02/Steak-Night_Tuesday-special.jpg
END:VEVENT
BEGIN:VEVENT
DTSTART;TZID=UTC:20260616T190000
DTEND;TZID=UTC:20260616T190000
DTSTAMP:20260421T014657
CREATED:20220831T142139Z
LAST-MODIFIED:20220831T142139Z
UID:9866-1781636400-1781636400@engadinebowling.com.au
SUMMARY:Tuesday Night Trivia
DESCRIPTION:Get your friends together and test your knowledge with a fun night of Trivia. It’s free to play and there are members points and free drinks to be won. Every Tuesday from 7pm in the Members Lounge.
URL:https://engadinebowling.com.au/event/tuesday-night-trivia/2026-06-16/
CATEGORIES:Promotions and Raffles
ATTACH;FMTTYPE=image/jpeg:https://engadinebowling.com.au/wp-content/uploads/2022/12/EBC_Trivia-Night-WEB-002.jpg
END:VEVENT
BEGIN:VEVENT
DTSTART;TZID=Australia/Sydney:20260617T150000
DTEND;TZID=Australia/Sydney:20260617T170000
DTSTAMP:20260421T014657
CREATED:20250106T025147Z
LAST-MODIFIED:20260331T045141Z
UID:10121-1781708400-1781715600@engadinebowling.com.au
SUMMARY:Happy Hour
DESCRIPTION:Join us for Happy Hour! Available exclusively to members\, you can enjoy $6.50 house beer\, wine\, and spirits every Monday to Friday from 3pm to 5pm. It’s the perfect way to relax and make the most of your afternoons. Not a member yet? Simply see our friendly reception team to join today! \nTerms and Conditions apply. Not available on public holidays or special event days at Management’s discretion.
URL:https://engadinebowling.com.au/event/happy-hour/2026-06-17/
CATEGORIES:Promotions and Raffles
ATTACH;FMTTYPE=image/jpeg:https://engadinebowling.com.au/wp-content/uploads/2025/01/EBC_Happy-Hour-WEB.jpg
END:VEVENT
BEGIN:VEVENT
DTSTART;TZID=Australia/Sydney:20260617T173000
DTEND;TZID=Australia/Sydney:20260617T203000
DTSTAMP:20260421T014657
CREATED:20241120T041100Z
LAST-MODIFIED:20241120T041100Z
UID:9899-1781717400-1781728200@engadinebowling.com.au
SUMMARY:Wednesday Roast Night
DESCRIPTION:Enjoy a mouthwatering roast pork served with seasonal vegetables\, roast potato\, pumpkin\, and rich gravy—all for just $16 every Wednesday night from 5:30pm. \nTerms and conditions apply. Not available on public holidays or special event days at Management’s discretion.
URL:https://engadinebowling.com.au/event/wednesday-roast-night/2026-06-17/
CATEGORIES:Promotions and Raffles
ATTACH;FMTTYPE=image/jpeg:https://engadinebowling.com.au/wp-content/uploads/2024/11/EBC_Wed-Roast-Night-Specials-Web.jpg
END:VEVENT
BEGIN:VEVENT
DTSTART;TZID=UTC:20260617T183000
DTEND;TZID=UTC:20260617T183000
DTSTAMP:20260421T014657
CREATED:20220831T142309Z
LAST-MODIFIED:20220831T142309Z
UID:9787-1781721000-1781721000@engadinebowling.com.au
SUMMARY:QuizzaMe!
DESCRIPTION:Heard of QuizzaMe? It’s a game show-style trivia using wireless buzzers\, no pens or paper. All questions are multiple-choice and randomly chosen from a range of categories. The faster you answer correctly\, the more points you will get for your team. There are lots of prizes to win every week!\nSound like fun? It’s FREE to play every Wednesday. Registration from 6.30 pm games starts at 7 pm.
URL:https://engadinebowling.com.au/event/quizzame/2026-06-17/
CATEGORIES:Promotions and Raffles
ATTACH;FMTTYPE=image/jpeg:https://engadinebowling.com.au/wp-content/uploads/2022/12/EBC_Quizzame-WEB.jpg
END:VEVENT
BEGIN:VEVENT
DTSTART;TZID=Australia/Sydney:20260618T150000
DTEND;TZID=Australia/Sydney:20260618T170000
DTSTAMP:20260421T014657
CREATED:20250106T025147Z
LAST-MODIFIED:20260331T045142Z
UID:10895-1781794800-1781802000@engadinebowling.com.au
SUMMARY:Happy Hour
DESCRIPTION:Join us for Happy Hour! Available exclusively to members\, you can enjoy $6.50 house beer\, wine\, and spirits every Monday to Friday from 3pm to 5pm. It’s the perfect way to relax and make the most of your afternoons. Not a member yet? Simply see our friendly reception team to join today! \nTerms and Conditions apply. Not available on public holidays or special event days at Management’s discretion.
URL:https://engadinebowling.com.au/event/happy-hour/2026-06-18/
CATEGORIES:Promotions and Raffles
ATTACH;FMTTYPE=image/jpeg:https://engadinebowling.com.au/wp-content/uploads/2025/01/EBC_Happy-Hour-WEB.jpg
END:VEVENT
BEGIN:VEVENT
DTSTART;TZID=Australia/Sydney:20260618T173000
DTEND;TZID=Australia/Sydney:20260618T203000
DTSTAMP:20260421T014657
CREATED:20240823T021419Z
LAST-MODIFIED:20240823T021419Z
UID:9957-1781803800-1781814600@engadinebowling.com.au
SUMMARY:Parmy Thursday
DESCRIPTION:Thursdays mean scrumptious $22 Traditional Parmy for dinner! Served with crispy chips and fresh salad\, available every Thursday from 5.30pm. \n*Not available on public holidays or special event days.
URL:https://engadinebowling.com.au/event/parmy-thursday/2026-06-18/
CATEGORIES:Promotions and Raffles
ATTACH;FMTTYPE=image/jpeg:https://engadinebowling.com.au/wp-content/uploads/2023/05/EBC_ParmyNight-Web2.jpg
END:VEVENT
BEGIN:VEVENT
DTSTART;TZID=Australia/Sydney:20260619T150000
DTEND;TZID=Australia/Sydney:20260619T170000
DTSTAMP:20260421T014657
CREATED:20250106T025147Z
LAST-MODIFIED:20260331T045144Z
UID:10896-1781881200-1781888400@engadinebowling.com.au
SUMMARY:Happy Hour
DESCRIPTION:Join us for Happy Hour! Available exclusively to members\, you can enjoy $6.50 house beer\, wine\, and spirits every Monday to Friday from 3pm to 5pm. It’s the perfect way to relax and make the most of your afternoons. Not a member yet? Simply see our friendly reception team to join today! \nTerms and Conditions apply. Not available on public holidays or special event days at Management’s discretion.
URL:https://engadinebowling.com.au/event/happy-hour/2026-06-19/
CATEGORIES:Promotions and Raffles
ATTACH;FMTTYPE=image/jpeg:https://engadinebowling.com.au/wp-content/uploads/2025/01/EBC_Happy-Hour-WEB.jpg
END:VEVENT
BEGIN:VEVENT
DTSTART;TZID=UTC:20260619T170000
DTEND;TZID=UTC:20260619T190000
DTSTAMP:20260421T014657
CREATED:20221207T035820Z
LAST-MODIFIED:20260408T075136Z
UID:10380-1781888400-1781895600@engadinebowling.com.au
SUMMARY:Cocktail Happy Hour
DESCRIPTION:Join us for cocktail happy hour every Friday\, Saturday\, and Sunday from 5pm to 7pm! And here’s the best part: all cocktails are only $14 for our valued members! \nHaven’t joined us as a member yet? No problem! Our friendly reception team is ready to assist you with joining. Membership starts from just $5 for a year\, unlocking access to member discounts. \nDon’t miss out! Swing by and enjoy your favourite cocktails during our happy hour. We look forward to welcoming you! \nTerms and Conditions apply. Not available on public holidays or special event days at Management’s discretion.
URL:https://engadinebowling.com.au/event/cocktail-happy-hour/2026-06-19/
CATEGORIES:Promotions and Raffles
ATTACH;FMTTYPE=image/jpeg:https://engadinebowling.com.au/wp-content/uploads/2025/12/EBC_Cocktail-Happy-Hour_WEB.jpg
END:VEVENT
BEGIN:VEVENT
DTSTART;TZID=UTC:20260620T170000
DTEND;TZID=UTC:20260620T190000
DTSTAMP:20260421T014657
CREATED:20221207T035820Z
LAST-MODIFIED:20260408T075137Z
UID:10381-1781974800-1781982000@engadinebowling.com.au
SUMMARY:Cocktail Happy Hour
DESCRIPTION:Join us for cocktail happy hour every Friday\, Saturday\, and Sunday from 5pm to 7pm! And here’s the best part: all cocktails are only $14 for our valued members! \nHaven’t joined us as a member yet? No problem! Our friendly reception team is ready to assist you with joining. Membership starts from just $5 for a year\, unlocking access to member discounts. \nDon’t miss out! Swing by and enjoy your favourite cocktails during our happy hour. We look forward to welcoming you! \nTerms and Conditions apply. Not available on public holidays or special event days at Management’s discretion.
URL:https://engadinebowling.com.au/event/cocktail-happy-hour/2026-06-20/
CATEGORIES:Promotions and Raffles
ATTACH;FMTTYPE=image/jpeg:https://engadinebowling.com.au/wp-content/uploads/2025/12/EBC_Cocktail-Happy-Hour_WEB.jpg
END:VEVENT
BEGIN:VEVENT
DTSTART;TZID=Australia/Sydney:20260621T140000
DTEND;TZID=Australia/Sydney:20260621T170000
DTSTAMP:20260421T014657
CREATED:20240212T223944Z
LAST-MODIFIED:20240212T223944Z
UID:9814-1782050400-1782061200@engadinebowling.com.au
SUMMARY:Sunday Sessions Barefoot Bowls
DESCRIPTION:Come along and enjoy three hours of Barefoot Bowls every Sunday. A fun family afternoon or gather your friends for an entertaining (or competitive) get together. \nHaven’t played before? No problem! Our friendly team will be on hand to guide you and provide instructions on how to play. \nOnly $15pp and $10pp for those under 18 years. Bookings are not required\, simply pay at the bar on arrival. There are no minimum numbers simply come along.
URL:https://engadinebowling.com.au/event/sunday-sessions-barefoot-bowls/2026-06-21/
CATEGORIES:Promotions and Raffles
ATTACH;FMTTYPE=image/jpeg:https://engadinebowling.com.au/wp-content/uploads/2024/09/Sunday-Session-Bowls-Sept-2024-WEB.jpg
END:VEVENT
BEGIN:VEVENT
DTSTART;TZID=UTC:20260621T170000
DTEND;TZID=UTC:20260621T190000
DTSTAMP:20260421T014657
CREATED:20221207T035820Z
LAST-MODIFIED:20260408T075138Z
UID:10382-1782061200-1782068400@engadinebowling.com.au
SUMMARY:Cocktail Happy Hour
DESCRIPTION:Join us for cocktail happy hour every Friday\, Saturday\, and Sunday from 5pm to 7pm! And here’s the best part: all cocktails are only $14 for our valued members! \nHaven’t joined us as a member yet? No problem! Our friendly reception team is ready to assist you with joining. Membership starts from just $5 for a year\, unlocking access to member discounts. \nDon’t miss out! Swing by and enjoy your favourite cocktails during our happy hour. We look forward to welcoming you! \nTerms and Conditions apply. Not available on public holidays or special event days at Management’s discretion.
URL:https://engadinebowling.com.au/event/cocktail-happy-hour/2026-06-21/
CATEGORIES:Promotions and Raffles
ATTACH;FMTTYPE=image/jpeg:https://engadinebowling.com.au/wp-content/uploads/2025/12/EBC_Cocktail-Happy-Hour_WEB.jpg
END:VEVENT
BEGIN:VEVENT
DTSTART;TZID=UTC:20260621T173000
DTEND;TZID=UTC:20260621T180000
DTSTAMP:20260421T014657
CREATED:20220831T142453Z
LAST-MODIFIED:20220831T142453Z
UID:9800-1782063000-1782064800@engadinebowling.com.au
SUMMARY:Sunday Meat Raffle
DESCRIPTION:Join us every Sunday for our weekly meat raffle. There are 25 prizes to be won\, including quality meat trays\, Coota Valley Meats vouchers and Wish Gift Cards\, plus two additional $50 meat trays. \nTickets go on sale from 5.30pm\, with the draw from 6pm.
URL:https://engadinebowling.com.au/event/sunday-meat-raffle/2026-06-21/
CATEGORIES:Promotions and Raffles
ATTACH;FMTTYPE=image/jpeg:https://engadinebowling.com.au/wp-content/uploads/2022/12/EBC_Meat-Raffle-WEB-002.jpg
END:VEVENT
BEGIN:VEVENT
DTSTART;TZID=Australia/Sydney:20260622T150000
DTEND;TZID=Australia/Sydney:20260622T170000
DTSTAMP:20260421T014657
CREATED:20250106T025147Z
LAST-MODIFIED:20260331T045145Z
UID:10897-1782140400-1782147600@engadinebowling.com.au
SUMMARY:Happy Hour
DESCRIPTION:Join us for Happy Hour! Available exclusively to members\, you can enjoy $6.50 house beer\, wine\, and spirits every Monday to Friday from 3pm to 5pm. It’s the perfect way to relax and make the most of your afternoons. Not a member yet? Simply see our friendly reception team to join today! \nTerms and Conditions apply. Not available on public holidays or special event days at Management’s discretion.
URL:https://engadinebowling.com.au/event/happy-hour/2026-06-22/
CATEGORIES:Promotions and Raffles
ATTACH;FMTTYPE=image/jpeg:https://engadinebowling.com.au/wp-content/uploads/2025/01/EBC_Happy-Hour-WEB.jpg
END:VEVENT
BEGIN:VEVENT
DTSTART;TZID=Australia/Sydney:20260622T173000
DTEND;TZID=Australia/Sydney:20260622T203000
DTSTAMP:20260421T014657
CREATED:20240823T012809Z
LAST-MODIFIED:20260115T033824Z
UID:10443-1782149400-1782160200@engadinebowling.com.au
SUMMARY:Schnitzel Night
DESCRIPTION:Don’t feel like cooking? Enjoy our mouth watering Chicken Schnitzel served with chips\, salad and gravy for only $20. Available every Monday from 5.30pm. \n*Terms and conditions apply. Not available on public holidays or special event days at Management’s discretion.
URL:https://engadinebowling.com.au/event/schnitzel-night/2026-06-22/
CATEGORIES:Promotions and Raffles
ATTACH;FMTTYPE=image/jpeg:https://engadinebowling.com.au/wp-content/uploads/2024/11/EBC_Schnitzel-Night-Specials-Web.jpg
END:VEVENT
BEGIN:VEVENT
DTSTART;TZID=Australia/Sydney:20260622T173000
DTEND;TZID=Australia/Sydney:20260622T203000
DTSTAMP:20260421T014657
CREATED:20240823T015802Z
LAST-MODIFIED:20260408T074805Z
UID:10371-1782149400-1782160200@engadinebowling.com.au
SUMMARY:Kids Eat Free Every Monday and Tuesday Night
DESCRIPTION:Join us every Monday and Tuesday night for a family-friendly dining experience. Enjoy a free kids’ meal for children 12 years and under with every adult meal purchased over $22. Gather the family and let us take care of dinner — we look forward to welcoming you. \nTerms and conditions apply. Not available on public holidays or special event days at management’s discretion.
URL:https://engadinebowling.com.au/event/kids-eat-free-every-monday-and-tuesday-night/2026-06-22/
CATEGORIES:Promotions and Raffles
ATTACH;FMTTYPE=image/jpeg:https://engadinebowling.com.au/wp-content/uploads/2026/01/Kids-Eat-Free_Website-1-scaled.jpg
END:VEVENT
BEGIN:VEVENT
DTSTART;TZID=Australia/Sydney:20260623T150000
DTEND;TZID=Australia/Sydney:20260623T170000
DTSTAMP:20260421T014657
CREATED:20250106T025147Z
LAST-MODIFIED:20260331T045148Z
UID:10898-1782226800-1782234000@engadinebowling.com.au
SUMMARY:Happy Hour
DESCRIPTION:Join us for Happy Hour! Available exclusively to members\, you can enjoy $6.50 house beer\, wine\, and spirits every Monday to Friday from 3pm to 5pm. It’s the perfect way to relax and make the most of your afternoons. Not a member yet? Simply see our friendly reception team to join today! \nTerms and Conditions apply. Not available on public holidays or special event days at Management’s discretion.
URL:https://engadinebowling.com.au/event/happy-hour/2026-06-23/
CATEGORIES:Promotions and Raffles
ATTACH;FMTTYPE=image/jpeg:https://engadinebowling.com.au/wp-content/uploads/2025/01/EBC_Happy-Hour-WEB.jpg
END:VEVENT
BEGIN:VEVENT
DTSTART;TZID=Australia/Sydney:20260623T173000
DTEND;TZID=Australia/Sydney:20260623T203000
DTSTAMP:20260421T014657
CREATED:20240823T015802Z
LAST-MODIFIED:20260408T074807Z
UID:10372-1782235800-1782246600@engadinebowling.com.au
SUMMARY:Kids Eat Free Every Monday and Tuesday Night
DESCRIPTION:Join us every Monday and Tuesday night for a family-friendly dining experience. Enjoy a free kids’ meal for children 12 years and under with every adult meal purchased over $22. Gather the family and let us take care of dinner — we look forward to welcoming you. \nTerms and conditions apply. Not available on public holidays or special event days at management’s discretion.
URL:https://engadinebowling.com.au/event/kids-eat-free-every-monday-and-tuesday-night/2026-06-23/
CATEGORIES:Promotions and Raffles
ATTACH;FMTTYPE=image/jpeg:https://engadinebowling.com.au/wp-content/uploads/2026/01/Kids-Eat-Free_Website-1-scaled.jpg
END:VEVENT
BEGIN:VEVENT
DTSTART;TZID=Australia/Sydney:20260623T173000
DTEND;TZID=Australia/Sydney:20260623T203000
DTSTAMP:20260421T014657
CREATED:20240823T020253Z
LAST-MODIFIED:20260115T030636Z
UID:9853-1782235800-1782246600@engadinebowling.com.au
SUMMARY:Tuesday Steak Night
DESCRIPTION:It’s Tuesday steak night at Engadine Grill. Enjoy a succulent 250g Rump steak with crispy chips\, salad and gravy for only $24. Available every Tuesday night from 5.30pm. \n*Not available on public holidays or special event days at Management’s discretion.
URL:https://engadinebowling.com.au/event/tuesday-steak-night/2026-06-23/
CATEGORIES:Promotions and Raffles
ATTACH;FMTTYPE=image/jpeg:https://engadinebowling.com.au/wp-content/uploads/2023/02/Steak-Night_Tuesday-special.jpg
END:VEVENT
BEGIN:VEVENT
DTSTART;TZID=UTC:20260623T190000
DTEND;TZID=UTC:20260623T190000
DTSTAMP:20260421T014657
CREATED:20220831T142139Z
LAST-MODIFIED:20220831T142139Z
UID:9867-1782241200-1782241200@engadinebowling.com.au
SUMMARY:Tuesday Night Trivia
DESCRIPTION:Get your friends together and test your knowledge with a fun night of Trivia. It’s free to play and there are members points and free drinks to be won. Every Tuesday from 7pm in the Members Lounge.
URL:https://engadinebowling.com.au/event/tuesday-night-trivia/2026-06-23/
CATEGORIES:Promotions and Raffles
ATTACH;FMTTYPE=image/jpeg:https://engadinebowling.com.au/wp-content/uploads/2022/12/EBC_Trivia-Night-WEB-002.jpg
END:VEVENT
BEGIN:VEVENT
DTSTART;TZID=Australia/Sydney:20260624T150000
DTEND;TZID=Australia/Sydney:20260624T170000
DTSTAMP:20260421T014657
CREATED:20250106T025147Z
LAST-MODIFIED:20260331T045149Z
UID:10899-1782313200-1782320400@engadinebowling.com.au
SUMMARY:Happy Hour
DESCRIPTION:Join us for Happy Hour! Available exclusively to members\, you can enjoy $6.50 house beer\, wine\, and spirits every Monday to Friday from 3pm to 5pm. It’s the perfect way to relax and make the most of your afternoons. Not a member yet? Simply see our friendly reception team to join today! \nTerms and Conditions apply. Not available on public holidays or special event days at Management’s discretion.
URL:https://engadinebowling.com.au/event/happy-hour/2026-06-24/
CATEGORIES:Promotions and Raffles
ATTACH;FMTTYPE=image/jpeg:https://engadinebowling.com.au/wp-content/uploads/2025/01/EBC_Happy-Hour-WEB.jpg
END:VEVENT
BEGIN:VEVENT
DTSTART;TZID=Australia/Sydney:20260624T173000
DTEND;TZID=Australia/Sydney:20260624T203000
DTSTAMP:20260421T014657
CREATED:20241120T041100Z
LAST-MODIFIED:20241120T041100Z
UID:9900-1782322200-1782333000@engadinebowling.com.au
SUMMARY:Wednesday Roast Night
DESCRIPTION:Enjoy a mouthwatering roast pork served with seasonal vegetables\, roast potato\, pumpkin\, and rich gravy—all for just $16 every Wednesday night from 5:30pm. \nTerms and conditions apply. Not available on public holidays or special event days at Management’s discretion.
URL:https://engadinebowling.com.au/event/wednesday-roast-night/2026-06-24/
CATEGORIES:Promotions and Raffles
ATTACH;FMTTYPE=image/jpeg:https://engadinebowling.com.au/wp-content/uploads/2024/11/EBC_Wed-Roast-Night-Specials-Web.jpg
END:VEVENT
BEGIN:VEVENT
DTSTART;TZID=UTC:20260624T183000
DTEND;TZID=UTC:20260624T183000
DTSTAMP:20260421T014657
CREATED:20220831T142309Z
LAST-MODIFIED:20220831T142309Z
UID:10240-1782325800-1782325800@engadinebowling.com.au
SUMMARY:QuizzaMe!
DESCRIPTION:Heard of QuizzaMe? It’s a game show-style trivia using wireless buzzers\, no pens or paper. All questions are multiple-choice and randomly chosen from a range of categories. The faster you answer correctly\, the more points you will get for your team. There are lots of prizes to win every week!\nSound like fun? It’s FREE to play every Wednesday. Registration from 6.30 pm games starts at 7 pm.
URL:https://engadinebowling.com.au/event/quizzame/2026-06-24/
CATEGORIES:Promotions and Raffles
ATTACH;FMTTYPE=image/jpeg:https://engadinebowling.com.au/wp-content/uploads/2022/12/EBC_Quizzame-WEB.jpg
END:VEVENT
END:VCALENDAR