BEGIN:VCALENDAR
VERSION:2.0
PRODID:-//Engadine Bowling Club - ECPv6.15.16.1//NONSGML v1.0//EN
CALSCALE:GREGORIAN
METHOD:PUBLISH
X-WR-CALNAME:Engadine Bowling Club
X-ORIGINAL-URL:https://engadinebowling.com.au
X-WR-CALDESC:Events for Engadine Bowling Club
REFRESH-INTERVAL;VALUE=DURATION:PT1H
X-Robots-Tag:noindex
X-PUBLISHED-TTL:PT1H
BEGIN:VTIMEZONE
TZID:Australia/Sydney
BEGIN:STANDARD
TZOFFSETFROM:+1100
TZOFFSETTO:+1000
TZNAME:AEST
DTSTART:20250405T160000
END:STANDARD
BEGIN:DAYLIGHT
TZOFFSETFROM:+1000
TZOFFSETTO:+1100
TZNAME:AEDT
DTSTART:20251004T160000
END:DAYLIGHT
BEGIN:STANDARD
TZOFFSETFROM:+1100
TZOFFSETTO:+1000
TZNAME:AEST
DTSTART:20260404T160000
END:STANDARD
BEGIN:DAYLIGHT
TZOFFSETFROM:+1000
TZOFFSETTO:+1100
TZNAME:AEDT
DTSTART:20261003T160000
END:DAYLIGHT
BEGIN:STANDARD
TZOFFSETFROM:+1100
TZOFFSETTO:+1000
TZNAME:AEST
DTSTART:20270403T160000
END:STANDARD
BEGIN:DAYLIGHT
TZOFFSETFROM:+1000
TZOFFSETTO:+1100
TZNAME:AEDT
DTSTART:20271002T160000
END:DAYLIGHT
END:VTIMEZONE
BEGIN:VEVENT
DTSTART;TZID=Australia/Sydney:20260420T173000
DTEND;TZID=Australia/Sydney:20260420T203000
DTSTAMP:20260420T230442
CREATED:20240823T015802Z
LAST-MODIFIED:20260408T074459Z
UID:10353-1776706200-1776717000@engadinebowling.com.au
SUMMARY:Kids Eat Free Every Monday and Tuesday Night
DESCRIPTION:Join us every Monday and Tuesday night for a family-friendly dining experience. Enjoy a free kids’ meal for children 12 years and under with every adult meal purchased over $22. Gather the family and let us take care of dinner — we look forward to welcoming you. \nTerms and conditions apply. Not available on public holidays or special event days at management’s discretion. \nShare on FacebookTweetFollow usSave
URL:https://engadinebowling.com.au/event/kids-eat-free-every-monday-and-tuesday-night/2026-04-20/
CATEGORIES:Promotions and Raffles
ATTACH;FMTTYPE=image/jpeg:https://engadinebowling.com.au/wp-content/uploads/2026/01/Kids-Eat-Free_Website-1-scaled.jpg
END:VEVENT
BEGIN:VEVENT
DTSTART;TZID=Australia/Sydney:20260414T173000
DTEND;TZID=Australia/Sydney:20260414T203000
DTSTAMP:20260420T230442
CREATED:20240823T015802Z
LAST-MODIFIED:20260408T074458Z
UID:10352-1776187800-1776198600@engadinebowling.com.au
SUMMARY:Kids Eat Free Every Monday and Tuesday Night
DESCRIPTION:Join us every Monday and Tuesday night for a family-friendly dining experience. Enjoy a free kids’ meal for children 12 years and under with every adult meal purchased over $22. Gather the family and let us take care of dinner — we look forward to welcoming you. \nTerms and conditions apply. Not available on public holidays or special event days at management’s discretion. \nShare on FacebookTweetFollow usSave
URL:https://engadinebowling.com.au/event/kids-eat-free-every-monday-and-tuesday-night/2026-04-14/
CATEGORIES:Promotions and Raffles
ATTACH;FMTTYPE=image/jpeg:https://engadinebowling.com.au/wp-content/uploads/2026/01/Kids-Eat-Free_Website-1-scaled.jpg
END:VEVENT
BEGIN:VEVENT
DTSTART;TZID=Australia/Sydney:20260413T173000
DTEND;TZID=Australia/Sydney:20260413T203000
DTSTAMP:20260420T230442
CREATED:20240823T015802Z
LAST-MODIFIED:20260408T074456Z
UID:10351-1776101400-1776112200@engadinebowling.com.au
SUMMARY:Kids Eat Free Every Monday and Tuesday Night
DESCRIPTION:Join us every Monday and Tuesday night for a family-friendly dining experience. Enjoy a free kids’ meal for children 12 years and under with every adult meal purchased over $22. Gather the family and let us take care of dinner — we look forward to welcoming you. \nTerms and conditions apply. Not available on public holidays or special event days at management’s discretion. \nShare on FacebookTweetFollow usSave
URL:https://engadinebowling.com.au/event/kids-eat-free-every-monday-and-tuesday-night/2026-04-13/
CATEGORIES:Promotions and Raffles
ATTACH;FMTTYPE=image/jpeg:https://engadinebowling.com.au/wp-content/uploads/2026/01/Kids-Eat-Free_Website-1-scaled.jpg
END:VEVENT
BEGIN:VEVENT
DTSTART;TZID=Australia/Sydney:20260407T173000
DTEND;TZID=Australia/Sydney:20260407T203000
DTSTAMP:20260420T230442
CREATED:20240823T015802Z
LAST-MODIFIED:20260408T074455Z
UID:10350-1775583000-1775593800@engadinebowling.com.au
SUMMARY:Kids Eat Free Every Monday and Tuesday Night
DESCRIPTION:Join us every Monday and Tuesday night for a family-friendly dining experience. Enjoy a free kids’ meal for children 12 years and under with every adult meal purchased over $22. Gather the family and let us take care of dinner — we look forward to welcoming you. \nTerms and conditions apply. Not available on public holidays or special event days at management’s discretion. \nShare on FacebookTweetFollow usSave
URL:https://engadinebowling.com.au/event/kids-eat-free-every-monday-and-tuesday-night/2026-04-07/
CATEGORIES:Promotions and Raffles
ATTACH;FMTTYPE=image/jpeg:https://engadinebowling.com.au/wp-content/uploads/2026/01/Kids-Eat-Free_Website-1-scaled.jpg
END:VEVENT
BEGIN:VEVENT
DTSTART;TZID=Australia/Sydney:20260406T173000
DTEND;TZID=Australia/Sydney:20260406T203000
DTSTAMP:20260420T230442
CREATED:20240823T015802Z
LAST-MODIFIED:20260408T074454Z
UID:10349-1775496600-1775507400@engadinebowling.com.au
SUMMARY:Kids Eat Free Every Monday and Tuesday Night
DESCRIPTION:Join us every Monday and Tuesday night for a family-friendly dining experience. Enjoy a free kids’ meal for children 12 years and under with every adult meal purchased over $22. Gather the family and let us take care of dinner — we look forward to welcoming you. \nTerms and conditions apply. Not available on public holidays or special event days at management’s discretion. \nShare on FacebookTweetFollow usSave
URL:https://engadinebowling.com.au/event/kids-eat-free-every-monday-and-tuesday-night/2026-04-06/
CATEGORIES:Promotions and Raffles
ATTACH;FMTTYPE=image/jpeg:https://engadinebowling.com.au/wp-content/uploads/2026/01/Kids-Eat-Free_Website-1-scaled.jpg
END:VEVENT
BEGIN:VEVENT
DTSTART;TZID=Australia/Sydney:20260331T173000
DTEND;TZID=Australia/Sydney:20260331T203000
DTSTAMP:20260420T230442
CREATED:20240823T015802Z
LAST-MODIFIED:20260408T074453Z
UID:9885-1774978200-1774989000@engadinebowling.com.au
SUMMARY:Kids Eat Free Every Monday and Tuesday Night
DESCRIPTION:Join us every Monday and Tuesday night for a family-friendly dining experience. Enjoy a free kids’ meal for children 12 years and under with every adult meal purchased over $22. Gather the family and let us take care of dinner — we look forward to welcoming you. \nTerms and conditions apply. Not available on public holidays or special event days at management’s discretion. \nShare on FacebookTweetFollow usSave
URL:https://engadinebowling.com.au/event/kids-eat-free-every-monday-and-tuesday-night/2026-03-31/
CATEGORIES:Promotions and Raffles
ATTACH;FMTTYPE=image/jpeg:https://engadinebowling.com.au/wp-content/uploads/2026/01/Kids-Eat-Free_Website-1-scaled.jpg
END:VEVENT
BEGIN:VEVENT
DTSTART;TZID=Australia/Sydney:20260330T173000
DTEND;TZID=Australia/Sydney:20260330T203000
DTSTAMP:20260420T230442
CREATED:20240823T015802Z
LAST-MODIFIED:20260408T074451Z
UID:9884-1774891800-1774902600@engadinebowling.com.au
SUMMARY:Kids Eat Free Every Monday and Tuesday Night
DESCRIPTION:Join us every Monday and Tuesday night for a family-friendly dining experience. Enjoy a free kids’ meal for children 12 years and under with every adult meal purchased over $22. Gather the family and let us take care of dinner — we look forward to welcoming you. \nTerms and conditions apply. Not available on public holidays or special event days at management’s discretion. \nShare on FacebookTweetFollow usSave
URL:https://engadinebowling.com.au/event/kids-eat-free-every-monday-and-tuesday-night/2026-03-30/
CATEGORIES:Promotions and Raffles
ATTACH;FMTTYPE=image/jpeg:https://engadinebowling.com.au/wp-content/uploads/2026/01/Kids-Eat-Free_Website-1-scaled.jpg
END:VEVENT
BEGIN:VEVENT
DTSTART;TZID=Australia/Sydney:20260324T173000
DTEND;TZID=Australia/Sydney:20260324T203000
DTSTAMP:20260420T230442
CREATED:20240823T015802Z
LAST-MODIFIED:20260408T074449Z
UID:9883-1774373400-1774384200@engadinebowling.com.au
SUMMARY:Kids Eat Free Every Monday and Tuesday Night
DESCRIPTION:Join us every Monday and Tuesday night for a family-friendly dining experience. Enjoy a free kids’ meal for children 12 years and under with every adult meal purchased over $22. Gather the family and let us take care of dinner — we look forward to welcoming you. \nTerms and conditions apply. Not available on public holidays or special event days at management’s discretion. \nShare on FacebookTweetFollow usSave
URL:https://engadinebowling.com.au/event/kids-eat-free-every-monday-and-tuesday-night/2026-03-24/
CATEGORIES:Promotions and Raffles
ATTACH;FMTTYPE=image/jpeg:https://engadinebowling.com.au/wp-content/uploads/2026/01/Kids-Eat-Free_Website-1-scaled.jpg
END:VEVENT
BEGIN:VEVENT
DTSTART;TZID=Australia/Sydney:20260323T173000
DTEND;TZID=Australia/Sydney:20260323T203000
DTSTAMP:20260420T230442
CREATED:20240823T015802Z
LAST-MODIFIED:20260408T074448Z
UID:9882-1774287000-1774297800@engadinebowling.com.au
SUMMARY:Kids Eat Free Every Monday and Tuesday Night
DESCRIPTION:Join us every Monday and Tuesday night for a family-friendly dining experience. Enjoy a free kids’ meal for children 12 years and under with every adult meal purchased over $22. Gather the family and let us take care of dinner — we look forward to welcoming you. \nTerms and conditions apply. Not available on public holidays or special event days at management’s discretion. \nShare on FacebookTweetFollow usSave
URL:https://engadinebowling.com.au/event/kids-eat-free-every-monday-and-tuesday-night/2026-03-23/
CATEGORIES:Promotions and Raffles
ATTACH;FMTTYPE=image/jpeg:https://engadinebowling.com.au/wp-content/uploads/2026/01/Kids-Eat-Free_Website-1-scaled.jpg
END:VEVENT
BEGIN:VEVENT
DTSTART;TZID=Australia/Sydney:20260317T173000
DTEND;TZID=Australia/Sydney:20260317T203000
DTSTAMP:20260420T230442
CREATED:20240823T015802Z
LAST-MODIFIED:20260408T074447Z
UID:9701-1773768600-1773779400@engadinebowling.com.au
SUMMARY:Kids Eat Free Every Monday and Tuesday Night
DESCRIPTION:Join us every Monday and Tuesday night for a family-friendly dining experience. Enjoy a free kids’ meal for children 12 years and under with every adult meal purchased over $22. Gather the family and let us take care of dinner — we look forward to welcoming you. \nTerms and conditions apply. Not available on public holidays or special event days at management’s discretion. \nShare on FacebookTweetFollow usSave
URL:https://engadinebowling.com.au/event/kids-eat-free-every-monday-and-tuesday-night/2026-03-17/
CATEGORIES:Promotions and Raffles
ATTACH;FMTTYPE=image/jpeg:https://engadinebowling.com.au/wp-content/uploads/2026/01/Kids-Eat-Free_Website-1-scaled.jpg
END:VEVENT
BEGIN:VEVENT
DTSTART;TZID=Australia/Sydney:20260316T173000
DTEND;TZID=Australia/Sydney:20260316T203000
DTSTAMP:20260420T230442
CREATED:20240823T015802Z
LAST-MODIFIED:20260408T074445Z
UID:9685-1773682200-1773693000@engadinebowling.com.au
SUMMARY:Kids Eat Free Every Monday and Tuesday Night
DESCRIPTION:Join us every Monday and Tuesday night for a family-friendly dining experience. Enjoy a free kids’ meal for children 12 years and under with every adult meal purchased over $22. Gather the family and let us take care of dinner — we look forward to welcoming you. \nTerms and conditions apply. Not available on public holidays or special event days at management’s discretion. \nShare on FacebookTweetFollow usSave
URL:https://engadinebowling.com.au/event/kids-eat-free-every-monday-and-tuesday-night/2026-03-16/
CATEGORIES:Promotions and Raffles
ATTACH;FMTTYPE=image/jpeg:https://engadinebowling.com.au/wp-content/uploads/2026/01/Kids-Eat-Free_Website-1-scaled.jpg
END:VEVENT
BEGIN:VEVENT
DTSTART;TZID=Australia/Sydney:20260310T173000
DTEND;TZID=Australia/Sydney:20260310T203000
DTSTAMP:20260420T230442
CREATED:20240823T015802Z
LAST-MODIFIED:20260408T074444Z
UID:9652-1773163800-1773174600@engadinebowling.com.au
SUMMARY:Kids Eat Free Every Monday and Tuesday Night
DESCRIPTION:Join us every Monday and Tuesday night for a family-friendly dining experience. Enjoy a free kids’ meal for children 12 years and under with every adult meal purchased over $22. Gather the family and let us take care of dinner — we look forward to welcoming you. \nTerms and conditions apply. Not available on public holidays or special event days at management’s discretion. \nShare on FacebookTweetFollow usSave
URL:https://engadinebowling.com.au/event/kids-eat-free-every-monday-and-tuesday-night/2026-03-10/
CATEGORIES:Promotions and Raffles
ATTACH;FMTTYPE=image/jpeg:https://engadinebowling.com.au/wp-content/uploads/2026/01/Kids-Eat-Free_Website-1-scaled.jpg
END:VEVENT
BEGIN:VEVENT
DTSTART;TZID=Australia/Sydney:20260309T173000
DTEND;TZID=Australia/Sydney:20260309T203000
DTSTAMP:20260420T230442
CREATED:20240823T015802Z
LAST-MODIFIED:20260408T074443Z
UID:9644-1773077400-1773088200@engadinebowling.com.au
SUMMARY:Kids Eat Free Every Monday and Tuesday Night
DESCRIPTION:Join us every Monday and Tuesday night for a family-friendly dining experience. Enjoy a free kids’ meal for children 12 years and under with every adult meal purchased over $22. Gather the family and let us take care of dinner — we look forward to welcoming you. \nTerms and conditions apply. Not available on public holidays or special event days at management’s discretion. \nShare on FacebookTweetFollow usSave
URL:https://engadinebowling.com.au/event/kids-eat-free-every-monday-and-tuesday-night/2026-03-09/
CATEGORIES:Promotions and Raffles
ATTACH;FMTTYPE=image/jpeg:https://engadinebowling.com.au/wp-content/uploads/2026/01/Kids-Eat-Free_Website-1-scaled.jpg
END:VEVENT
BEGIN:VEVENT
DTSTART;TZID=Australia/Sydney:20260303T173000
DTEND;TZID=Australia/Sydney:20260303T203000
DTSTAMP:20260420T230442
CREATED:20240823T015802Z
LAST-MODIFIED:20260408T074441Z
UID:9599-1772559000-1772569800@engadinebowling.com.au
SUMMARY:Kids Eat Free Every Monday and Tuesday Night
DESCRIPTION:Join us every Monday and Tuesday night for a family-friendly dining experience. Enjoy a free kids’ meal for children 12 years and under with every adult meal purchased over $22. Gather the family and let us take care of dinner — we look forward to welcoming you. \nTerms and conditions apply. Not available on public holidays or special event days at management’s discretion. \nShare on FacebookTweetFollow usSave
URL:https://engadinebowling.com.au/event/kids-eat-free-every-monday-and-tuesday-night/2026-03-03/
CATEGORIES:Promotions and Raffles
ATTACH;FMTTYPE=image/jpeg:https://engadinebowling.com.au/wp-content/uploads/2026/01/Kids-Eat-Free_Website-1-scaled.jpg
END:VEVENT
BEGIN:VEVENT
DTSTART;TZID=Australia/Sydney:20260302T173000
DTEND;TZID=Australia/Sydney:20260302T203000
DTSTAMP:20260420T230442
CREATED:20240823T015802Z
LAST-MODIFIED:20260408T074440Z
UID:9587-1772472600-1772483400@engadinebowling.com.au
SUMMARY:Kids Eat Free Every Monday and Tuesday Night
DESCRIPTION:Join us every Monday and Tuesday night for a family-friendly dining experience. Enjoy a free kids’ meal for children 12 years and under with every adult meal purchased over $22. Gather the family and let us take care of dinner — we look forward to welcoming you. \nTerms and conditions apply. Not available on public holidays or special event days at management’s discretion. \nShare on FacebookTweetFollow usSave
URL:https://engadinebowling.com.au/event/kids-eat-free-every-monday-and-tuesday-night/2026-03-02/
CATEGORIES:Promotions and Raffles
ATTACH;FMTTYPE=image/jpeg:https://engadinebowling.com.au/wp-content/uploads/2026/01/Kids-Eat-Free_Website-1-scaled.jpg
END:VEVENT
BEGIN:VEVENT
DTSTART;TZID=Australia/Sydney:20260224T173000
DTEND;TZID=Australia/Sydney:20260224T203000
DTSTAMP:20260420T230442
CREATED:20240823T015802Z
LAST-MODIFIED:20260408T074439Z
UID:9532-1771954200-1771965000@engadinebowling.com.au
SUMMARY:Kids Eat Free Every Monday and Tuesday Night
DESCRIPTION:Join us every Monday and Tuesday night for a family-friendly dining experience. Enjoy a free kids’ meal for children 12 years and under with every adult meal purchased over $22. Gather the family and let us take care of dinner — we look forward to welcoming you. \nTerms and conditions apply. Not available on public holidays or special event days at management’s discretion. \nShare on FacebookTweetFollow usSave
URL:https://engadinebowling.com.au/event/kids-eat-free-every-monday-and-tuesday-night/2026-02-24/
CATEGORIES:Promotions and Raffles
ATTACH;FMTTYPE=image/jpeg:https://engadinebowling.com.au/wp-content/uploads/2026/01/Kids-Eat-Free_Website-1-scaled.jpg
END:VEVENT
BEGIN:VEVENT
DTSTART;TZID=Australia/Sydney:20260223T173000
DTEND;TZID=Australia/Sydney:20260223T203000
DTSTAMP:20260420T230442
CREATED:20240823T015802Z
LAST-MODIFIED:20260408T074434Z
UID:9519-1771867800-1771878600@engadinebowling.com.au
SUMMARY:Kids Eat Free Every Monday and Tuesday Night
DESCRIPTION:Join us every Monday and Tuesday night for a family-friendly dining experience. Enjoy a free kids’ meal for children 12 years and under with every adult meal purchased over $22. Gather the family and let us take care of dinner — we look forward to welcoming you. \nTerms and conditions apply. Not available on public holidays or special event days at management’s discretion. \nShare on FacebookTweetFollow usSave
URL:https://engadinebowling.com.au/event/kids-eat-free-every-monday-and-tuesday-night/2026-02-23/
CATEGORIES:Promotions and Raffles
ATTACH;FMTTYPE=image/jpeg:https://engadinebowling.com.au/wp-content/uploads/2026/01/Kids-Eat-Free_Website-1-scaled.jpg
END:VEVENT
BEGIN:VEVENT
DTSTART;TZID=Australia/Sydney:20260217T173000
DTEND;TZID=Australia/Sydney:20260217T203000
DTSTAMP:20260420T230442
CREATED:20240823T015802Z
LAST-MODIFIED:20260408T074432Z
UID:9481-1771349400-1771360200@engadinebowling.com.au
SUMMARY:Kids Eat Free Every Monday and Tuesday Night
DESCRIPTION:Join us every Monday and Tuesday night for a family-friendly dining experience. Enjoy a free kids’ meal for children 12 years and under with every adult meal purchased over $22. Gather the family and let us take care of dinner — we look forward to welcoming you. \nTerms and conditions apply. Not available on public holidays or special event days at management’s discretion. \nShare on FacebookTweetFollow usSave
URL:https://engadinebowling.com.au/event/kids-eat-free-every-monday-and-tuesday-night/2026-02-17/
CATEGORIES:Promotions and Raffles
ATTACH;FMTTYPE=image/jpeg:https://engadinebowling.com.au/wp-content/uploads/2026/01/Kids-Eat-Free_Website-1-scaled.jpg
END:VEVENT
BEGIN:VEVENT
DTSTART;TZID=Australia/Sydney:20260216T173000
DTEND;TZID=Australia/Sydney:20260216T203000
DTSTAMP:20260420T230442
CREATED:20240823T015802Z
LAST-MODIFIED:20260408T074431Z
UID:9472-1771263000-1771273800@engadinebowling.com.au
SUMMARY:Kids Eat Free Every Monday and Tuesday Night
DESCRIPTION:Join us every Monday and Tuesday night for a family-friendly dining experience. Enjoy a free kids’ meal for children 12 years and under with every adult meal purchased over $22. Gather the family and let us take care of dinner — we look forward to welcoming you. \nTerms and conditions apply. Not available on public holidays or special event days at management’s discretion. \nShare on FacebookTweetFollow usSave
URL:https://engadinebowling.com.au/event/kids-eat-free-every-monday-and-tuesday-night/2026-02-16/
CATEGORIES:Promotions and Raffles
ATTACH;FMTTYPE=image/jpeg:https://engadinebowling.com.au/wp-content/uploads/2026/01/Kids-Eat-Free_Website-1-scaled.jpg
END:VEVENT
BEGIN:VEVENT
DTSTART;TZID=Australia/Sydney:20260210T173000
DTEND;TZID=Australia/Sydney:20260210T203000
DTSTAMP:20260420T230442
CREATED:20240823T015802Z
LAST-MODIFIED:20260408T074429Z
UID:9336-1770744600-1770755400@engadinebowling.com.au
SUMMARY:Kids Eat Free Every Monday and Tuesday Night
DESCRIPTION:Join us every Monday and Tuesday night for a family-friendly dining experience. Enjoy a free kids’ meal for children 12 years and under with every adult meal purchased over $22. Gather the family and let us take care of dinner — we look forward to welcoming you. \nTerms and conditions apply. Not available on public holidays or special event days at management’s discretion. \nShare on FacebookTweetFollow usSave
URL:https://engadinebowling.com.au/event/kids-eat-free-every-monday-and-tuesday-night/2026-02-10/
CATEGORIES:Promotions and Raffles
ATTACH;FMTTYPE=image/jpeg:https://engadinebowling.com.au/wp-content/uploads/2026/01/Kids-Eat-Free_Website-1-scaled.jpg
END:VEVENT
BEGIN:VEVENT
DTSTART;TZID=Australia/Sydney:20260209T173000
DTEND;TZID=Australia/Sydney:20260209T203000
DTSTAMP:20260420T230442
CREATED:20240823T015802Z
LAST-MODIFIED:20260408T074428Z
UID:9284-1770658200-1770669000@engadinebowling.com.au
SUMMARY:Kids Eat Free Every Monday and Tuesday Night
DESCRIPTION:Join us every Monday and Tuesday night for a family-friendly dining experience. Enjoy a free kids’ meal for children 12 years and under with every adult meal purchased over $22. Gather the family and let us take care of dinner — we look forward to welcoming you. \nTerms and conditions apply. Not available on public holidays or special event days at management’s discretion. \nShare on FacebookTweetFollow usSave
URL:https://engadinebowling.com.au/event/kids-eat-free-every-monday-and-tuesday-night/2026-02-09/
CATEGORIES:Promotions and Raffles
ATTACH;FMTTYPE=image/jpeg:https://engadinebowling.com.au/wp-content/uploads/2026/01/Kids-Eat-Free_Website-1-scaled.jpg
END:VEVENT
BEGIN:VEVENT
DTSTART;TZID=Australia/Sydney:20260203T173000
DTEND;TZID=Australia/Sydney:20260203T203000
DTSTAMP:20260420T230442
CREATED:20240823T015802Z
LAST-MODIFIED:20260408T074427Z
UID:9246-1770139800-1770150600@engadinebowling.com.au
SUMMARY:Kids Eat Free Every Monday and Tuesday Night
DESCRIPTION:Join us every Monday and Tuesday night for a family-friendly dining experience. Enjoy a free kids’ meal for children 12 years and under with every adult meal purchased over $22. Gather the family and let us take care of dinner — we look forward to welcoming you. \nTerms and conditions apply. Not available on public holidays or special event days at management’s discretion. \nShare on FacebookTweetFollow usSave
URL:https://engadinebowling.com.au/event/kids-eat-free-every-monday-and-tuesday-night/2026-02-03/
CATEGORIES:Promotions and Raffles
ATTACH;FMTTYPE=image/jpeg:https://engadinebowling.com.au/wp-content/uploads/2026/01/Kids-Eat-Free_Website-1-scaled.jpg
END:VEVENT
BEGIN:VEVENT
DTSTART;TZID=Australia/Sydney:20260202T173000
DTEND;TZID=Australia/Sydney:20260202T203000
DTSTAMP:20260420T230442
CREATED:20240823T015802Z
LAST-MODIFIED:20260408T074426Z
UID:9238-1770053400-1770064200@engadinebowling.com.au
SUMMARY:Kids Eat Free Every Monday and Tuesday Night
DESCRIPTION:Join us every Monday and Tuesday night for a family-friendly dining experience. Enjoy a free kids’ meal for children 12 years and under with every adult meal purchased over $22. Gather the family and let us take care of dinner — we look forward to welcoming you. \nTerms and conditions apply. Not available on public holidays or special event days at management’s discretion. \nShare on FacebookTweetFollow usSave
URL:https://engadinebowling.com.au/event/kids-eat-free-every-monday-and-tuesday-night/2026-02-02/
CATEGORIES:Promotions and Raffles
ATTACH;FMTTYPE=image/jpeg:https://engadinebowling.com.au/wp-content/uploads/2026/01/Kids-Eat-Free_Website-1-scaled.jpg
END:VEVENT
BEGIN:VEVENT
DTSTART;TZID=Australia/Sydney:20260127T173000
DTEND;TZID=Australia/Sydney:20260127T203000
DTSTAMP:20260420T230442
CREATED:20240823T015802Z
LAST-MODIFIED:20260408T074424Z
UID:9204-1769535000-1769545800@engadinebowling.com.au
SUMMARY:Kids Eat Free Every Monday and Tuesday Night
DESCRIPTION:Join us every Monday and Tuesday night for a family-friendly dining experience. Enjoy a free kids’ meal for children 12 years and under with every adult meal purchased over $22. Gather the family and let us take care of dinner — we look forward to welcoming you. \nTerms and conditions apply. Not available on public holidays or special event days at management’s discretion. \nShare on FacebookTweetFollow usSave
URL:https://engadinebowling.com.au/event/kids-eat-free-every-monday-and-tuesday-night/2026-01-27/
CATEGORIES:Promotions and Raffles
ATTACH;FMTTYPE=image/jpeg:https://engadinebowling.com.au/wp-content/uploads/2026/01/Kids-Eat-Free_Website-1-scaled.jpg
END:VEVENT
BEGIN:VEVENT
DTSTART;TZID=Australia/Sydney:20260126T173000
DTEND;TZID=Australia/Sydney:20260126T203000
DTSTAMP:20260420T230442
CREATED:20240823T015802Z
LAST-MODIFIED:20260408T074423Z
UID:9195-1769448600-1769459400@engadinebowling.com.au
SUMMARY:Kids Eat Free Every Monday and Tuesday Night
DESCRIPTION:Join us every Monday and Tuesday night for a family-friendly dining experience. Enjoy a free kids’ meal for children 12 years and under with every adult meal purchased over $22. Gather the family and let us take care of dinner — we look forward to welcoming you. \nTerms and conditions apply. Not available on public holidays or special event days at management’s discretion. \nShare on FacebookTweetFollow usSave
URL:https://engadinebowling.com.au/event/kids-eat-free-every-monday-and-tuesday-night/2026-01-26/
CATEGORIES:Promotions and Raffles
ATTACH;FMTTYPE=image/jpeg:https://engadinebowling.com.au/wp-content/uploads/2026/01/Kids-Eat-Free_Website-1-scaled.jpg
END:VEVENT
BEGIN:VEVENT
DTSTART;TZID=Australia/Sydney:20260120T173000
DTEND;TZID=Australia/Sydney:20260120T203000
DTSTAMP:20260420T230442
CREATED:20240823T015802Z
LAST-MODIFIED:20260408T074422Z
UID:9164-1768930200-1768941000@engadinebowling.com.au
SUMMARY:Kids Eat Free Every Monday and Tuesday Night
DESCRIPTION:Join us every Monday and Tuesday night for a family-friendly dining experience. Enjoy a free kids’ meal for children 12 years and under with every adult meal purchased over $22. Gather the family and let us take care of dinner — we look forward to welcoming you. \nTerms and conditions apply. Not available on public holidays or special event days at management’s discretion. \nShare on FacebookTweetFollow usSave
URL:https://engadinebowling.com.au/event/kids-eat-free-every-monday-and-tuesday-night/2026-01-20/
CATEGORIES:Promotions and Raffles
ATTACH;FMTTYPE=image/jpeg:https://engadinebowling.com.au/wp-content/uploads/2026/01/Kids-Eat-Free_Website-1-scaled.jpg
END:VEVENT
BEGIN:VEVENT
DTSTART;TZID=Australia/Sydney:20260119T173000
DTEND;TZID=Australia/Sydney:20260119T203000
DTSTAMP:20260420T230442
CREATED:20240823T015802Z
LAST-MODIFIED:20260408T074420Z
UID:5737-1768843800-1768854600@engadinebowling.com.au
SUMMARY:Kids Eat Free Every Monday and Tuesday Night
DESCRIPTION:Join us every Monday and Tuesday night for a family-friendly dining experience. Enjoy a free kids’ meal for children 12 years and under with every adult meal purchased over $22. Gather the family and let us take care of dinner — we look forward to welcoming you. \nTerms and conditions apply. Not available on public holidays or special event days at management’s discretion. \nShare on FacebookTweetFollow usSave
URL:https://engadinebowling.com.au/event/kids-eat-free-every-monday-and-tuesday-night/2026-01-19/
CATEGORIES:Promotions and Raffles
ATTACH;FMTTYPE=image/jpeg:https://engadinebowling.com.au/wp-content/uploads/2026/01/Kids-Eat-Free_Website-1-scaled.jpg
END:VEVENT
END:VCALENDAR